BEGIN:VCALENDAR
VERSION:2.0
PRODID:-//Stadtgeschichte München//DE
CALSCALE:GREGORIAN
BEGIN:VEVENT
UID:10985@stadtgeschichte-muenchen.de
SUMMARY:Nord-Ost-Forum:
DESCRIPTION:Sie haben Gelegenheit, mit anderen Interessierten und Nachbarn ’Themen anzusprechen, die Ihnen im Zusammenhang mit dem Planungsprojekt im Münchner Nordosten „auf den Nägeln brennen”. Vertreterinnen und Vertreter des städtischen Planungsreferates werden als Gäste anwesend sein. Seit Februar 2015 findet der Stammtisch i.d.R.alle zwei Monate statt. Schwerpunktthemen und eventuell einzuladende Gäste werden gemeinsam festgelegt. In Zusammenarbeit mit dem Bezirksausschuss 13 Bogenhausen, dem Okologischen Bildungszentrum und dem NordOstKuItur e.V.&nbsp;
DTSTART:20151111T190000
DTEND:20151111T210000
LOCATION:Gaststätte Pyrsos \' Englschalkinger Str. 206
ORGANIZER:MVHS München Ost
END:VEVENT
END:VCALENDAR