BEGIN:VCALENDAR
VERSION:2.0
PRODID:-//Stadtgeschichte München//DE
CALSCALE:GREGORIAN
BEGIN:VEVENT
UID:10992@stadtgeschichte-muenchen.de
SUMMARY:Berg am Laim und Ramersdorf:
DESCRIPTION:Die 1748 erbaute Feldkapelle heißt heute Echardinger Kapelle, entsprechend ihrer Lage am historischen Wallfahrtsweg, der Berg am Laim ‐ am damaligen Weiler Echarding vorbei ‐ nach Ramersdorf führte. Bei einem Bombenangriff schwer beschädigt, wurde die Kapelle Anfang der 1960er Jahre restlos beseitigt, aber 2001 wieder errichtet. Die Maikäfersiedlung war die erste große Volkswohnanlage der 1930er Jahre. In den zurückliegenden Jahren wurde die alte Bau‐ \' substanz überwiegend abgebrochen, dafür eine neue innerstädtische Siedlung gebaut, in der esnoch „Erhaltenes\"‚zu entdecken gibt.&nbsp;
DTSTART:20151016T140000
DTEND:20151016T153000
LOCATION:Echardinger Kapelle, Grünanlage Echardinger Str. 50
ORGANIZER:MVHS München Ost
END:VEVENT
END:VCALENDAR