BEGIN:VCALENDAR
VERSION:2.0
PRODID:-//Stadtgeschichte München//DE
CALSCALE:GREGORIAN
BEGIN:VEVENT
UID:11006@stadtgeschichte-muenchen.de
SUMMARY:Obergiesing: von der neuen Stadtbibliothek Giesing zum Giesinger Bräu
DESCRIPTION:Die Tour startet ander neuen Giesinger Stadtbibliothek. Dabei treffen , wir auf viele „Giasinger Originale”. Obergiesing wurde anno 790 erstmals genannt, dörfliche Strukturen sind noch zuentdecken. Mit der wachsenden lndustrialisierung veränderte sich die Bevölkerungsstruktur und das politische Bewusstsein. Während der Revolution von 1918 entstand der Ruf vom „Roten Giesing“. Wahrzeichen Obergiesings ist die hoch gelegene Heilig-Kreuz-Kirche. Auf der anderen Straßenseite befindet sich das Giesinger Bräu mit Einkehrmöglichkeit. kurz&amp;gut ‐ ein Angebot der MVHS und der Münchner Stadtbibliothek&nbsp;
DTSTART:20151112T110000
DTEND:20151112T133000
LOCATION:Stadtbibliothek Giesing \' Deisenhofener Str. 20
ORGANIZER:MVHS München Ost
END:VEVENT
END:VCALENDAR