BEGIN:VCALENDAR
VERSION:2.0
PRODID:-//Stadtgeschichte München//DE
CALSCALE:GREGORIAN
BEGIN:VEVENT
UID:11012@stadtgeschichte-muenchen.de
SUMMARY:diakonia secondhand im Moosfeld: Drehscheibe für Kleiderspenden
DESCRIPTION:Die diakonia GmbH beschäftigt in ihren Betrieben Menschen in schwierigen Lebenslagen. Die Führungam neuen Standort im Gewerbegebiet Moosfeld zeigt die Arbeitsbereiche: Spendenannahmen mit Kleidersortierung zur Versorgung der Flüchtlinge und zur Belieferung der diakonia-Ladengeschäfte sowie den Fuhrpark zur Abholung und i\" Lieferung von Spenden undWaren. Sie erfahren, wie mit Kleiderspenden umgegangenwird und welche Arbeitsplätze für Menschen mit Handicaps geschaffen werden. Lernen Sie auch das Second-Han‘d‑ Kaufhaus in Moosach bei einer Führung kennen (8122722).&nbsp;
DTSTART:20151103T140000
DTEND:20151103T153000
LOCATION:Diakonia Secondhand - Stahlgruberring 8
ORGANIZER:MVHS München Ost
END:VEVENT
END:VCALENDAR