BEGIN:VCALENDAR
VERSION:2.0
PRODID:-//Stadtgeschichte München//DE
CALSCALE:GREGORIAN
BEGIN:VEVENT
UID:11032@stadtgeschichte-muenchen.de
SUMMARY:Der Sendlinger Friedhof
DESCRIPTION:Wenige Jahre vor der Eingemeindung Sendlings in die Stadt München wurde 1871 bis 1872 der Sendlinger Friedhof in der Albert-Roßhaupter- Straße angelegt und dazu ein neoromanisches Leichenhaus errichtet. In den bisherigen Kirchenfriedhöfen von St. Achaz und St. Margaret fanden seither keine Bestattungen mehr statt. Die Führung stellt einige der dort begrabenen Persönlichkeiten vor und erläutert Hintergründe der Sendlinger Geschichte vor Ort.
DTSTART:20151114T140000
DTEND:20151114T160000
LOCATION:Eingang des Sendlinger Friedhofs Â· Albert-Roßhaupter-Str. 5
ORGANIZER:MVHS München Mitte   
END:VEVENT
END:VCALENDAR