BEGIN:VCALENDAR
VERSION:2.0
PRODID:-//Stadtgeschichte München//DE
CALSCALE:GREGORIAN
BEGIN:VEVENT
UID:11038@stadtgeschichte-muenchen.de
SUMMARY:Sehenswürdigkeiten und botanische Besonderheiten im Westpark-Ostteil
DESCRIPTION:Der Westpark zählt zu den schönsten Parks Münchens. im Ostteil befindet sich das ganz aus Schiefer erbaute Sardenhaus mit seiner danebenstehenden Nurage, in der wir bei Gelegenheit kurz eine der regelmäßigen Kunstausstellungen besuchen. Zuerwähnen ist auch die Anlage des künstlichen Bachlaufs, das etwas abseits liegende Teichbiotop. Nicht zu vergessen der wunderschön angelegte Ostsee, mit seinen in ganz München nur hier zu sehenden im Wasser stehenden Sumpfzypressen sowie die im Umkreis befindlichenweitgeschwungenen Blumenanpflanzungen.&nbsp;
DTSTART:20151018T140000
DTEND:20151018T160000
LOCATION:Westpark (Haltestelle Bus 134), Aufgang ‑ Baumgartnerstr. 
ORGANIZER:MVHS München Süd
END:VEVENT
END:VCALENDAR