BEGIN:VCALENDAR
VERSION:2.0
PRODID:-//Stadtgeschichte München//DE
CALSCALE:GREGORIAN
BEGIN:VEVENT
UID:11045@stadtgeschichte-muenchen.de
SUMMARY:Thalkirchen ‐ vom Flößerdorfzum teuren Wohnviertel
DESCRIPTION:Das alte Thalkirchen lebte von der Isar: zuerst von den Flößern, dann kurzzeitig als Kurort „Bad Thalkirchen”, wobei außer dem kalten Isarwasser nicht viel geboten wurde. Die landschaftliche Schönheit wurde schon früh entdeckt, ansonsten hätten sich die Gebrüder Asam wohl kaum ihren Sommersitz, das Asamschlössl dort erbaut. Die Thalkirchner lebten vor 1900 in relativ einfachen Wohnungen, einige Jugendstilbauten zeigen die wachsende Attraktivität dieses Viertels bereits an. Im Bereich des ehemaligen Isartalbahn-Geländes wurden in den letzten Jahren großzügige Wohnanlagen errichtet.&nbsp;
DTSTART:20160130T100000
DTEND:20160130T120000
LOCATION:U3 Thalkirchen, Ausgang Tierpark, an der Rampe oben
ORGANIZER:MVHS München Süd
END:VEVENT
END:VCALENDAR