BEGIN:VCALENDAR
VERSION:2.0
PRODID:-//Stadtgeschichte München//DE
CALSCALE:GREGORIAN
BEGIN:VEVENT
UID:11048@stadtgeschichte-muenchen.de
SUMMARY:Zuflucht: die Wohngruppe der AWO
DESCRIPTION:In der Hofmannstraße befindetsich seit einiger Zeit eine Wohngruppe für unbegleitete minderjährige Flüchtlinge in Trägerschaft der ArbeitenNohlfahrt in München Stadt (AWO). . Dreizehn Jugendliche finden dort Platz und werden, nach ihrer Flucht in München angekommen, von Sozialpädagogen vor Ort betreut und in das Leben in Deutschland eingeführt. Die Mitarbeiter der AWO stellen die Einrichtung vor, geben Einblick in die Migrationsarbeit und lassen einen Jugendlichen erzählen, wie \' sein Leben in München gestartet ist.&nbsp;
DTSTART:20151123T180000
DTEND:20151123T193000
LOCATION:Passionskirche Obersendling (Gemeindesaal) -Tölzer Str. 17
ORGANIZER:MVHS München Süd
END:VEVENT
END:VCALENDAR