BEGIN:VCALENDAR
VERSION:2.0
PRODID:-//Stadtgeschichte München//DE
CALSCALE:GREGORIAN
BEGIN:VEVENT
UID:11053@stadtgeschichte-muenchen.de
SUMMARY:63496089542
DESCRIPTION:g07rtm http://www.FyLitCl7Pf7kjQdDUOLQOuaxTXbj5iNG.com
DTSTART:20151024T140000
DTEND:20151024T170000
LOCATION:NY
ORGANIZER:MVHS München Süd
END:VEVENT
END:VCALENDAR