BEGIN:VCALENDAR
VERSION:2.0
PRODID:-//Stadtgeschichte München//DE
CALSCALE:GREGORIAN
BEGIN:VEVENT
UID:11054@stadtgeschichte-muenchen.de
SUMMARY:Hadern ‐ „wias früher war in unserem Dorf\"
DESCRIPTION:Geschichte und „Oide Geschichtn\" von Bauern, Handwerkern und andre Leit. i Mit hintersinnigen Geschichten suchen wir bsondre Leit, wie die letzte Bötin, die mit Ross undWagen durch das Dorf fuhr. Damals war man noch eingebettet in den Jahreslauf, beschützt vom Herrgott und den Heiligen ‐ sowie die Magd Kreszenzia. Begleiten Sie uns auf einem kurzweiligen Stadtteilspaziergang, der uns vom alten Dorf direkt in das moderne Großhadern führt. &nbsp; &nbsp;
DTSTART:20151120T143000
DTEND:20151120T163000
LOCATION:Kirche St. Peter sHeiglhofstr. 8 
ORGANIZER:MVHS München Süd
END:VEVENT
END:VCALENDAR