BEGIN:VCALENDAR
VERSION:2.0
PRODID:-//Stadtgeschichte München//DE
CALSCALE:GREGORIAN
BEGIN:VEVENT
UID:11061@stadtgeschichte-muenchen.de
SUMMARY:München weiterbauen ‐ Freiham 2015
DESCRIPTION:Wie sieht urbanes Leben im 21. Jahrhundert aus? Mit der Planung von Freiham\'soll die „Stadt von morgen” erprobt werden. Wie kann das Zusammenspiel von architektonischer Gestalt, städtebaulicher Qualität und einer breiten Teilhabe der Bewohnerinnen und Bewohner in Freiham funktionieren? In nächster Zukunft stehen wichtige planerische Weichenstellungen an‐ u.a.: „Qualität \' in Freiham\", „Häuser bauen, Lebensraum schaffen”, „Mobil sein in Freiham ‐ intelligent und inklusiv“. Mit dem Bau von zwei Grundschulen hat die Umsetzung bereits begonnen. Der aktuelle Stand ist das Thema dieses Abends. In Kooperation mit dem Referat für Stadtplanung und Bauordnung.&nbsp;
DTSTART:20151028T190000
DTEND:20151028T210000
LOCATION:Stadtteilladen Westkreuz - Friedrichshafener Str. 11
ORGANIZER:MVHS München West
END:VEVENT
END:VCALENDAR