BEGIN:VCALENDAR
VERSION:2.0
PRODID:-//Stadtgeschichte München//DE
CALSCALE:GREGORIAN
BEGIN:VEVENT
UID:11068@stadtgeschichte-muenchen.de
SUMMARY:Ein Rundgang über den Aubinger Friedhof
DESCRIPTION:Für die damals selbständige Gemeinde Aubing wurde der Friedhof 1911 in Betrieb genommen. Seit der Eingemeindung im Jahr 1942 gehört er zu den Friedhöfen der Stadt München. Im nun mehr als 100 Jahre alten, mehrmals erweiterten Friedhof gibt es historische (Familien-) Gräber, gewachsene Strukturen und eine moderne Aussegnungshalle. Viele „alte Aubinger“ haben ihre letzte Ruhe in dieser Natur-Oase gefunden.&nbsp;
DTSTART:20151017T140000
DTEND:20151017T153000
LOCATION:Eingang am Parkplatz - Freihamer Weg 73
ORGANIZER:MVHS München West
END:VEVENT
END:VCALENDAR