BEGIN:VCALENDAR
VERSION:2.0
PRODID:-//Stadtgeschichte München//DE
CALSCALE:GREGORIAN
BEGIN:VEVENT
UID:11069@stadtgeschichte-muenchen.de
SUMMARY:Laim entlang der Landsberger Straße
DESCRIPTION:Die Landsberger Straße gehört zu den längeren Straßen in München und führt von der Hackerbrücke bis nach Pasing. Der Abschnitt der Landsberger Straße zwischen Barth‐Unterführung und Willibaldstraße gehört zum Stadtbezirk 25, München-Laim. Beginnend an der Unterführung werden wir uns mit der Geschichte der an diesem Straßenabschnitt gelegenen Wirtschaften, Firmen, die Eisenbahn mit dem Rangierbahnhof und sonstigen interessanten Details beschäftigen.&nbsp;
DTSTART:20151210T190000
DTEND:20151210T203000
LOCATION:Volkshochschule - Fürstenrieder Str. 53
ORGANIZER:MVHS München West
END:VEVENT
END:VCALENDAR