BEGIN:VCALENDAR
VERSION:2.0
PRODID:-//Stadtgeschichte München//DE
CALSCALE:GREGORIAN
BEGIN:VEVENT
UID:11076@stadtgeschichte-muenchen.de
SUMMARY:Jugendstil in Neuhausen
DESCRIPTION:Wie in allen gutbürgerlichen Münchner Wohnvierteln, so sind auch in Neuhausen viele originelle Jugendstil-Mietshäuser und -Vlllen zu finden. Auf unserem Rundgang lernen wir Werke von Spitzenarchitekten wie Richard Bemdl, Martin Dülfer, Karl Hocheder, Max Littmann oder Friedrich Thiersch kennen, die bisher viel zu wenig beachtet wurden. Auch die Stadtplanung Neuhausens war den besten Fachkräften anvertraut ‐ die Vorteile von Theodor Fischers Planung mit ihrer aufgelokkerten Bebauung wissen auch die heutigen Bewohner noch zu schätzen.&nbsp;
DTSTART:20151024T100400
DTEND:20151024T160000
LOCATION:U-Bahnstation Rotkreuzplatz, Ausgang Volkartstraße (Ost)
ORGANIZER:MVHS München West
END:VEVENT
END:VCALENDAR