BEGIN:VCALENDAR
VERSION:2.0
PRODID:-//Stadtgeschichte München//DE
CALSCALE:GREGORIAN
BEGIN:VEVENT
UID:11081@stadtgeschichte-muenchen.de
SUMMARY:Die BIutenburg - von der mittelalterlichen Anlage zum modernen Bücherscltloss
DESCRIPTION:Das Gebäudeensemble aus dem 15. Jahrhundert wurde Anfang der achtziger Jahre renoviert und für die Zwecke der Internationalen ‚ Jugendbibliothek (lJB) ausgebaut. Der Rundgang durch die Schlossanlage einschließlich der Kapelle macht mit ihrer Geschichte und ihren kunsthistorischen Schätzen bekannt und stellt zugleich die Arbeit der weltweit einzigartigen Bibliothek für internationale Kinder; \"und Jugendliteratur vor. Besichtigt werden auch das Erich-Kästner‑ Zimmer, das Michael-Ende-Museum,das Binette‐Schroeder-Kabinett und der James-Krüss-Turm. ‑ ln Kooperation mit der IJB.&nbsp;
DTSTART:20151106T150000
DTEND:20151106T170000
LOCATION:Eingang BIutenburg Seldweg 15
ORGANIZER:MVHS München West
END:VEVENT
END:VCALENDAR