BEGIN:VCALENDAR
VERSION:2.0
PRODID:-//Stadtgeschichte München//DE
CALSCALE:GREGORIAN
BEGIN:VEVENT
UID:11085@stadtgeschichte-muenchen.de
SUMMARY:Die Villenkolonie I von August Exter - gestern und heute
DESCRIPTION:Die am&nbsp;Ende des 19. Jahrhunderts nördlich der Bahnlinie errichteten Kolonien I und IIwerden in ihrem historischen, kulturellen und kunsthistorischen Zusammenhang vorgestellt. Die heute meist denkmalgeschützten Exter-Bauten werden mit entsprechenden Originaldokumenten, Bildern, Zeitungsartikeln etc. veranschaulicht und erläutert. Aktuelle Fotos dokumentieren die bereits bestehenden Veränderungen einzelner Straßenzüge und Häuser(-Gruppen). Auch die Pläne zur Nachverdichtung in Münchens Gartenstädten werden thematisiert.
DTSTART:20160217T180000
DTEND:20160217T193000
LOCATION:Volkshochschule - Bäckerstr. 14
ORGANIZER:MVHS München West
END:VEVENT
END:VCALENDAR