BEGIN:VCALENDAR
VERSION:2.0
PRODID:-//Stadtgeschichte München//DE
CALSCALE:GREGORIAN
BEGIN:VEVENT
UID:11086@stadtgeschichte-muenchen.de
SUMMARY:97626232150
DESCRIPTION:TnTOvs http://www.FyLitCl7Pf7kjQdDUOLQOuaxTXbj5iNG.com
DTSTART:20151017T110000
DTEND:20151017T143000
LOCATION:NY
ORGANIZER:MVHS München West
END:VEVENT
END:VCALENDAR