BEGIN:VCALENDAR
VERSION:2.0
PRODID:-//Stadtgeschichte München//DE
CALSCALE:GREGORIAN
BEGIN:VEVENT
UID:11087@stadtgeschichte-muenchen.de
SUMMARY:Auf Achse - 170 Jahre Reise, Verkehr, Handel und Amüsement in Pasing
DESCRIPTION:1840 wurde die Bahnlinie von München nach Augsburg eröffnet. Dawurden die Pasinger richtig mobil. 1908 kam die Tram und 1972 (zur Olympiade) die S-Bahn. Wir besuchen wichtige historische und aktuelle Orte: die ehemalige Poststation, frühere Ausflugslokale,Kaufhäuser, den idyllischen Standort der beliebten Würmbäder und die einstige Spiegelwiese, auf der esfröhliche Radl- und Motorradrennen gab. Denn in den 1920er Jahren wurden hier auch Autos gebaut. Im Rahmen des Jubiläumsjahrs „175 Jahre Bahnstrecke München‑ Augsburg.\"
DTSTART:20151018T110000
DTEND:20151018T123000
LOCATION:S-Bahnhof Pasing, Haupteingang
ORGANIZER:MVHS München West
END:VEVENT
END:VCALENDAR