BEGIN:VCALENDAR
VERSION:2.0
PRODID:-//Stadtgeschichte München//DE
CALSCALE:GREGORIAN
BEGIN:VEVENT
UID:11097@stadtgeschichte-muenchen.de
SUMMARY:Zwetschgnmandl & Fatschnkindl
DESCRIPTION:Weihnachten duftet und schmeckt! Ganz besonders auf den vielen schönen Märkten der Adventszeit. Jeder hat seine Besonderheiten und ein ganz eigenes Flair. Verwöhnt mit süßen und heißen Kostproben tauchen wir ein in die vielfältige Welt der Münchner Christkindlmärkte früher und heute. &nbsp; Endpunkt: Nähe Odeonsplatz​
DTSTART:20151220T110000
DTEND:20151220T130000
LOCATION:Im Torbogen des Sendlinger Tores
ORGANIZER:STATTreisen München e.V.
END:VEVENT
END:VCALENDAR