BEGIN:VCALENDAR
VERSION:2.0
PRODID:-//Stadtgeschichte München//DE
CALSCALE:GREGORIAN
BEGIN:VEVENT
UID:11098@stadtgeschichte-muenchen.de
SUMMARY:Von Misteln und Mooskrippen
DESCRIPTION:In Münchens Schwabing trafen sie alle aufeinander: „Herrschaftskinder“ und Tagelöhner, Alteingesessene und Zuagroaste, Literaten und Handwerker – und alle feierten Weihnachten entsprechend ihrer Traditionen und Möglichkeiten. Heute greift der Schwabinger „Wunschbaum“ dem Christkind hilfreich unter die Arme. Hier, in der ehemaligen Vorstadt, kann man immer noch erkennen, wo einst die Mooskrippen standen. Alte Bräuche, weihnachtliche Geschichten und lebendiges Kunsthandwerk begegnen uns auf unserem Rundgang: Was verbindet Ludwig Thomas „Bayerische Weihnacht“ mit der Schönheitskönigin von Schneiztlreuth? Wie feierte man Weihnachten bei der Familie Mann? Wo in München schmücken heute Lichterkränze die heilige Luzia? Wie werden Münchner Isarkiesel zu wertvollen Schmuckstücken? Kulinarisch unterstützt vom „heißen Bischof“ und anderen Köstlichkeiten bereiten wir uns vor auf das Fest der Feste. Kinderpreis: € 8.-
DTSTART:20151206T110000
DTEND:20151206T130000
LOCATION:Ecke Leopold-Herzogstraße beim ABC Kino
ORGANIZER:STATTreisen München e.V.
END:VEVENT
END:VCALENDAR