BEGIN:VCALENDAR
VERSION:2.0
PRODID:-//Stadtgeschichte München//DE
CALSCALE:GREGORIAN
BEGIN:VEVENT
UID:1112@stadtgeschichte-muenchen.de
SUMMARY:Von Korbinian bis Lichtmess
DESCRIPTION:&lt;p&gt;Keine andere Zeit im Jahr ist so von Festen, Brauchtum und Symbolik gepr&amp;auml;gt wie der Weihnachtsfestkreis. Vieles davon ist aber heute in Vergessenheit geraten. Anhand zahlreicher Kunstwerke werden die Symbole erkl&amp;auml;rt und die Hintergr&amp;uuml;nde erl&amp;auml;utert: Was hat der Hl. Bischof Nikolaus gerade mit Kindern zu tun? Was bedeuten eigentlich urspr&amp;uuml;nglich der Christbaumschmuck oder die Geschenke der Hl. Drei K&amp;ouml;nige? Und warum ist ein K&amp;ouml;nig dunkelh&amp;auml;utig? Warum werden an Maria Lichtmess Kerzen geweiht? Antworten auf diese und andere Fragen bekommen Sie bei einem Rundgang durch die Ausstellung.&lt;/p&gt;
DTSTART:20111127T150000
DTEND:20111127T163000
LOCATION:Diözesanmuseum, Domberg, 85354 Freising
ORGANIZER:Münchner Bildungswerk e.V.
END:VEVENT
END:VCALENDAR