BEGIN:VCALENDAR
VERSION:2.0
PRODID:-//Stadtgeschichte München//DE
CALSCALE:GREGORIAN
BEGIN:VEVENT
UID:11120@stadtgeschichte-muenchen.de
SUMMARY:Der Erste Weltkrieg und München
DESCRIPTION:1914 wurde der Kriegsausbruch begeistert begrüßt. Die Stimmungslage änderte sich jedoch mit Kriegsdauer und –verlauf und führte spätestens ab 1916/17 zu Protesten, die schließlich in die Revolution von 1918 mündeten. &nbsp; Die gesellschaftlichen Umwälzungen und Kriegserfahrungen 1914-1918 stehen im Mittelpunkt des Rundgangs. &nbsp; Endpunkt: \"Türkentor\" (Türkenstraße)
DTSTART:20160526T160000
DTEND:20160526T180000
LOCATION:Schönfeldstraße 3-5 bei der Pferdestatue
ORGANIZER:STATTreisen München e.V.
END:VEVENT
END:VCALENDAR