BEGIN:VCALENDAR
VERSION:2.0
PRODID:-//Stadtgeschichte München//DE
CALSCALE:GREGORIAN
BEGIN:VEVENT
UID:1117@stadtgeschichte-muenchen.de
SUMMARY:Am Strand der grünen Isar
DESCRIPTION:&lt;p&gt;1903 rief Oskar von Miller zur Errichtung eines Museums f&amp;uuml;r Meisterwerke der Technik auf. Der Bau des Deutschen Museums nach Pl&amp;auml;nen von Gabriel von Seidl und anderen bekannten Architekten nimmt heute fast die gesamte Kohleninsel ein. Von der Spitze der Insel blickt ein Standbild Ludwigs II. in die Fluten des Flusses und auf die monumentale St. Maximilianskirche. Dieses in sp&amp;auml;tromanischer Form erbaute Gotteshaus birgt eine interessante Ausstattung: Mosaiken von Karl J. Becker-Gundahl und Bildhauerarbeiten von Alois Miller. &lt;/p&gt;
DTSTART:20111014T140000
DTEND:20111014T160000
LOCATION:Ludwigsbrücke vordem Dt.Museum
ORGANIZER:Münchner Bildungswerk e.V.
END:VEVENT
END:VCALENDAR