BEGIN:VCALENDAR
VERSION:2.0
PRODID:-//Stadtgeschichte München//DE
CALSCALE:GREGORIAN
BEGIN:VEVENT
UID:1118@stadtgeschichte-muenchen.de
SUMMARY:Sendling im Herbst
DESCRIPTION:&lt;p&gt;Wir beginnen unseren Stadtteilspaziergang mit der sp&amp;auml;tbarocken Kirche St. Margaret, neben der die ber&amp;uuml;hmt-ber&amp;uuml;chtigte Sendlinger Bauernschlacht stattfand. Am Stemmerhof, dem ehemaligen Schmiedwirt und dem Maibaum mit Sendlinger Wappen l&amp;auml;sst sich die b&amp;auml;uerliche Struktur des urspr&amp;uuml;nglichen Dorfes nachvollziehen. &amp;Uuml;ber die neue St. Margaretkirche, die Jugendstilh&amp;auml;user am Harras und den Schuttberg mit spektakul&amp;auml;rer Aussicht auf M&amp;uuml;nchen erreichen wir den alten j&amp;uuml;dischen Friedhof, in dem bedeutende Pers&amp;ouml;nlichkeiten wie der Dichter Michael Beer und der Galerist Heinrich Thannhauser begraben sind. Ein Besuch in Sendung - einst ger&amp;uuml;hmt f&amp;uuml;r seine gesunde Luft - ist nach wie vor lohnenswert!&lt;/p&gt;
DTSTART:20111022T150000
DTEND:20111022T170000
LOCATION:Alte St. Margaretkirche, Portal, Plinganserstraße
ORGANIZER:Münchner Bildungswerk e.V.
END:VEVENT
END:VCALENDAR