BEGIN:VCALENDAR
VERSION:2.0
PRODID:-//Stadtgeschichte München//DE
CALSCALE:GREGORIAN
BEGIN:VEVENT
UID:1121@stadtgeschichte-muenchen.de
SUMMARY:Kultur- und Kunstgeschichte der Jagd
DESCRIPTION:&lt;p&gt;&amp;Uuml;ber Jahrmillionen waren die Menschen Sammler, Fischer und J&amp;auml;ger. Die Jagd bildete eine Grundlage f&amp;uuml;r die Entwicklung des homo sapiens und seiner Vorl&amp;auml;ufer. Erst sp&amp;auml;t kamen Ackerbau und Viehzucht dazu. An ausgew&amp;auml;hlten Objekten und Bildern wird die Entwicklung der Jagdmethoden aufgezeigt. Jede Epoche der Menschheit erfand andere Jagdarten und entsprechende k&amp;uuml;nstlerische Darstellungen. Dies reicht von der h&amp;ouml;fischen Falkenjagd des Mittelalters bis zur eingestellten Jagd der Barockzeit.&lt;br /&gt; Gem&amp;auml;lde, Stiche, Schmuck, Porzellan, Waffen und Troph&amp;auml;en repr&amp;auml;sentierten herrschaftliches K&amp;ouml;nnen und Vergn&amp;uuml;gen. Folgen Sie der Kulturgeschichte der Jagd bis zum heutigen Tag.&lt;/p&gt;
DTSTART:20111112T150000
DTEND:20111112T163000
LOCATION:Deutsches Jagd- und Fischereimuseum, Neuhauser Straße 2
ORGANIZER:Münchner Bildungswerk e.V.
END:VEVENT
END:VCALENDAR