BEGIN:VCALENDAR
VERSION:2.0
PRODID:-//Stadtgeschichte München//DE
CALSCALE:GREGORIAN
BEGIN:VEVENT
UID:11211@stadtgeschichte-muenchen.de
SUMMARY:Minderheiten in München
DESCRIPTION:&nbsp;München hat als attraktive , dynamische Haupt- und Residenzstadt seit ihrer Grün­dung vor über 850 Jahren immer wieder Minderheiten magisch angezogen. Men­schen, deren Sprache, Religion, Nationalität, Weltanschauung, ethnische Zugehö­rigkeit nicht den Normen der angestammten Bevölkerung entsprechen. Viele die­ser „Andersartigen\" haben sich organisiert. Die Stadtgesellschaft hat sie toleriert, integriert und zu eigenem Nutzen gefördert - früher oder später, mehr oder weni­ger. Bei diesem Rundgang reden wir über einige dieser Gruppen und Menschen, die in München ihre Heimat gefunden haben.&nbsp;
DTSTART:20160403T150000
DTEND:20160403T170000
LOCATION:Marienplatz, Haupteingang neues Rathaus (gegenüber Mariensäule)
ORGANIZER:DGB-Bildungswerk Bayern e.V. Region München
END:VEVENT
END:VCALENDAR