BEGIN:VCALENDAR
VERSION:2.0
PRODID:-//Stadtgeschichte München//DE
CALSCALE:GREGORIAN
BEGIN:VEVENT
UID:11294@stadtgeschichte-muenchen.de
SUMMARY:Die bayerischen Königinnen
DESCRIPTION:Ihre Männer sind &nbsp;berühmt und füllen &nbsp;die Geschichtsbücher, doch sie &nbsp; bleiben stets im Hintergrund: &nbsp;die bayerischen Königinnen. &nbsp;Ihrewichtigste &nbsp; Aufgabe war den Fortbestand der Dynastie zu sichern &nbsp;und zu &nbsp;repräsentieren. Dabei kämpften sie für &nbsp;ihren protestantischen Glauben, &nbsp;gründeten Orden, &nbsp;entwarfen Bergsteigerkleidung, sorgten sich &nbsp;umSoldaten &nbsp;und bewirtschafteten ein Landgut. &nbsp;Erfahren Sie &nbsp;mehr &nbsp;über die Schicksale &nbsp;der bayerischen Königinnen Caroline, Therese, &nbsp;Marie &nbsp;und Marie Therese, von &nbsp;denen übrigens &nbsp;keine aus Bayern &nbsp;stammte.
DTSTART:20160703T110000
DTEND:20160703T130000
LOCATION:Max‐Joseph-Platz, am  Denkmal 
ORGANIZER:MVHS München Mitte   
END:VEVENT
END:VCALENDAR