BEGIN:VCALENDAR
VERSION:2.0
PRODID:-//Stadtgeschichte München//DE
CALSCALE:GREGORIAN
BEGIN:VEVENT
UID:11297@stadtgeschichte-muenchen.de
SUMMARY:Die Graggenau
DESCRIPTION:Nordöstlichd es Marienplatzesl iegt das Graggenauerviertel mit dem Alten Hof und der Residenz befand sich hier das herzogliche, kurfürstliche und später königliche Machtzentrum. Deshalb ließen sich hier bevorzugt Händler, Mitglieder des Rates der Stadt und Hofbedienstete nieder. Esw ar aber auch ein Handwerkerzentrum für Gerber, Lederer und Loderer. Im Tal, entlang der Salzstraße hatten mehrere Brauereien und dem Transportwesen zuarbeitende Berufe ihre Standorte gefunden. Führung: 14.00 bis 16.00 Uhr · Treffpunkt wird im Kurs bekanntgegeben
DTSTART:20160906T103000
DTEND:20160906T120000
LOCATION:Gasteig· Rosenheirne Str. 5
ORGANIZER:MVHS München Mitte   
END:VEVENT
END:VCALENDAR