BEGIN:VCALENDAR
VERSION:2.0
PRODID:-//Stadtgeschichte München//DE
CALSCALE:GREGORIAN
BEGIN:VEVENT
UID:11298@stadtgeschichte-muenchen.de
SUMMARY:Das Angerviertel
DESCRIPTION:Zwei wichtige Plätze prägen das Angerviertel. Der Viktualienmarkt und der Jakobsplatz. Einrichtungen wie die Fleischbänke die Stadtwaage, der Rinder- und der Pferdemarkt, das Frauenhaus und das Haus des Scharfrichters befanden sich dort. Auf dem Jakobsplatz, dem einstigen Dultplatz, standen das Zeughaus, der städtische Marstall und das erste Feuerwehrhaus. Heute prägt die neue Jüdische Synagoge den Jakobsplatz und die wiederaufgebaute Schrannenhalle rundet den Viktualienmarkt ab.&nbsp; Führung: 14.00 bis 16.00 Uhr · Treffpunkt wird im Kurs bekanntgegeben
DTSTART:20160907T103000
DTEND:20160907T120000
LOCATION:Gasteig· Rosenheirne Str. 5
ORGANIZER:MVHS München Mitte   
END:VEVENT
END:VCALENDAR