BEGIN:VCALENDAR
VERSION:2.0
PRODID:-//Stadtgeschichte München//DE
CALSCALE:GREGORIAN
BEGIN:VEVENT
UID:11307@stadtgeschichte-muenchen.de
SUMMARY:Die Münchner Stadtbachsysteme
DESCRIPTION:Bis ins 20. Jahrhundert hinein waren die Isar und ihre&nbsp;als Stadtbäche nutzbaren Nebenarmsysteme&nbsp;Lebensadern des alten München. Die Lenkung der Nebenarme &nbsp;der Isar beeinflusste den städtebaulichen&nbsp;Grundentwurf Münchens im 12. Jahrhundert entscheidend. Wir&nbsp;folgen dem Verlauf des verrohrt erhaltenen westlichen&nbsp;Stadtgrabenbaches&nbsp;vom Hofgarten bis zum Sendlinger Tor, dem Glockenbach&nbsp;und dem Westermühlbachb is zur Marienklausenbrückea m Tierpark&nbsp;Hellabrunn mit dem Einlasswehr des Auer Mühlbachs. Die Tour findet bei jedem Wetter statt. Bitte bringen Sie Ihr eigenes Fahrrad.mit.
DTSTART:20160731T110000
DTEND:20160731T140000
LOCATION:Prinz-Carl-Palais - Franz-Josef-Strauß-Ring 5
ORGANIZER:MVHS München Mitte   
END:VEVENT
END:VCALENDAR