BEGIN:VCALENDAR
VERSION:2.0
PRODID:-//Stadtgeschichte München//DE
CALSCALE:GREGORIAN
BEGIN:VEVENT
UID:11310@stadtgeschichte-muenchen.de
SUMMARY:Mord  und Totschlag
DESCRIPTION:Zwar giltMünchen als eine der sicherstenMetropolen derWelt,dennoch hat sich hier so manch großer Kriminalakt abgespielt. Die FälleRichard Oetker,Rudolph Moshammer, Walter Sedlmayr oder Vera Brühne waren lange Stadtgespräch und sorgten für riesigen Presserummel. Wir begeben unsauf die Spuren dieser Fälle und hören von den Schicksalen und Geschichten hinter den Morden und Betrügereien.
DTSTART:20160512T163000
DTEND:20160512T183000
LOCATION:Karlsplatz/Stachus, unter dem  Karlstor
ORGANIZER:MVHS München Mitte   
END:VEVENT
END:VCALENDAR