BEGIN:VCALENDAR
VERSION:2.0
PRODID:-//Stadtgeschichte München//DE
CALSCALE:GREGORIAN
BEGIN:VEVENT
UID:11312@stadtgeschichte-muenchen.de
SUMMARY:Frauenabend - Ausgehen in München für Frauen ab 30 Jahren
DESCRIPTION:Haben Sie Lust, nette Bars kennen zu lernen? Wo kann frau am Abend schön ausgehen, etwas trinken, sich amüsieren - gepflegt, elegant oder gemütlich leger? München bietet jede Menge traditionsreicher und schöner Lokale, Clubs, Cafes. Wir streifen durch die Altstadt und schnuppern nächtliche Ausgeh-Luft.
DTSTART:20160818T180000
DTEND:20160818T200000
LOCATION:Fischbrunnen am Marienplatz
ORGANIZER:MVHS München Süd
END:VEVENT
END:VCALENDAR