BEGIN:VCALENDAR
VERSION:2.0
PRODID:-//Stadtgeschichte München//DE
CALSCALE:GREGORIAN
BEGIN:VEVENT
UID:11313@stadtgeschichte-muenchen.de
SUMMARY:Die Münchner Altstadt im Wandel
DESCRIPTION:Die Neuordnung der Verkehrssituationin der Altstadt verändert die Lebens- und Aufenthaltssituation, sowie das Konsumverhalten zwischen Sendlinger Tor und Sonnenstraße grundlegend. Befindets ich die Stadtplanung hierbei auf dem richtigen Weg? Wolfgang Püschel ist seit zwanzig Jahren mit der innerstädtischen Entwicklung vertraut. Der stelllvertretende Vorsitzende des Bezirksausschusse 1&nbsp;Altstadt/ Lehels tellt Ihnen die Chancen, Probleme und Perspektiven bei einem Rundgang vor.
DTSTART:20160427T153000
DTEND:20160427T173000
LOCATION:Am Rindermarktbrunnen
ORGANIZER:MVHS München Mitte   
END:VEVENT
END:VCALENDAR