BEGIN:VCALENDAR
VERSION:2.0
PRODID:-//Stadtgeschichte München//DE
CALSCALE:GREGORIAN
BEGIN:VEVENT
UID:11314@stadtgeschichte-muenchen.de
SUMMARY:Führung durch die Münchner Hauptsynagoge Ohel-Jakob
DESCRIPTION:Die am 9. November 2006, feierlich eingeweihte Hauptsynagoge Münchens gilt als Meisterwerk zeitgenössischer (SakraI-)Architektur und gehört zu den größten und eindrucksvollsten Synagogenneubauten Europas. lm Rahmen der Führung erhalten Sie eine Einführung in die Geschichte der jüdischen Gemeinde in München, in die Architektur der Synagoge sowie in den Ablauf eines‘Gottesdienstes. Die Synagoge betreten die Besucher durch den unterirdischen Gang der Erinnerung. Herren bitten wir eine Kopfbedeckung zu tragen.
DTSTART:20160405T163000
DTEND:20160405T180000
LOCATION:OheI-Jakob-Synagoge v Sankt‐Jakobs‐Platz 18 
ORGANIZER:MVHS München Mitte   
END:VEVENT
END:VCALENDAR