BEGIN:VCALENDAR
VERSION:2.0
PRODID:-//Stadtgeschichte München//DE
CALSCALE:GREGORIAN
BEGIN:VEVENT
UID:11315@stadtgeschichte-muenchen.de
SUMMARY:Die Bayerische Akademie der Wissenschaften
DESCRIPTION:ist eine der größten und ältesten Akademien in Deutschland und zugleich traditionsreiche Gelehrtengesellschaft und außeruniversitäre Forschungseinrichtung von internationalem Rang. Hier entstehen wissenschaftliche Wörterbücher und Editionen, Lexika und Werkausgaben. Die Wissenschaftler widmen sich der Gletscherforschung, der Satellitengeodäsie, der Inschriftenkunde u.v. m. Der Rundgang informiert über die Arbeit der Akademie und stellt die Redaktion des Bayerischen Wörterbuchs vor.
DTSTART:20160504T150000
DTEND:20160504T170000
LOCATION:Alfons-Goppel-Str. 11
ORGANIZER:MVHS München Mitte   
END:VEVENT
END:VCALENDAR