BEGIN:VCALENDAR
VERSION:2.0
PRODID:-//Stadtgeschichte München//DE
CALSCALE:GREGORIAN
BEGIN:VEVENT
UID:11323@stadtgeschichte-muenchen.de
SUMMARY:Das Franzosenviertel und seine Schmankerl
DESCRIPTION:Erleben Sie bei dieser Tour eine gemütliche Ecke im Stadtteil Haidhausen: Das Franzosenviertel. Hier gibt es schöne Fassaden und Plätze &nbsp;zu entdecken.Viele Straßennamen erinnern an die Bayrisch-Französische Geschichte und es gibt so manche Geschichte über das Leben früher zu berichten. Doch was kam bei den Leuten hier im Viertel auf den Tisch? Und was haben wir von unseren französischen Nachbarn gelernt? Lassen Sie sich überraschen und fühlen Sie sich an diesem Abend wie Gott in Frankreich!&nbsp;
DTSTART:20160701T170000
DTEND:20160701T183000
LOCATION:Auf dem Pariser Platz
ORGANIZER:MVHS München Mitte   
END:VEVENT
END:VCALENDAR