BEGIN:VCALENDAR
VERSION:2.0
PRODID:-//Stadtgeschichte München//DE
CALSCALE:GREGORIAN
BEGIN:VEVENT
UID:11329@stadtgeschichte-muenchen.de
SUMMARY:kurz&gut
DESCRIPTION:Das Viertel „vor der Stadt\" bestand nicht nur aus den lsarauen, sondern war sehr wichtig für das wirtschaftliche Leben in der Stadt. Handwerker prägten das Bild an den einstigen Stadtbächen, die heute fast verschwunden sind. Holz wurde an der südlichen Lände angelandet und königliche Möbel hergestellt. Es gab eine Kirche auf pfählen und das Pesthaus zwischen der Isar und dem Pesenbach. Woher kommt der Name und wo liegt der Charme des inzwischen so beliebten Viertels? kurz&amp;gut - ein Angebot der MVHS und der Münchner Stadtbibliothek
DTSTART:20160405T190000
DTEND:20160405T200000
LOCATION:Stadtbibliothek lsarvorstadt · Kapuzinerstr . 28
ORGANIZER:MVHS München Mitte   
END:VEVENT
END:VCALENDAR