BEGIN:VCALENDAR
VERSION:2.0
PRODID:-//Stadtgeschichte München//DE
CALSCALE:GREGORIAN
BEGIN:VEVENT
UID:11331@stadtgeschichte-muenchen.de
SUMMARY:Entlang des Westermühlbaches
DESCRIPTION:Die Geschichte Münchens ist seit dem 12. Jahrhundert geprägt von der Isar und den Stadtbächen. Der Westermühlbach ist heute der einzige, stellenweise noch offen fließende Stadtbach im Süden Münchens - links der Isar. Er war der Ursprung für alle anderen Stadtbäche. Er erzählt uns von der Abhängigkeit der Bürgerschaft vom Wasser, der Bedeutung für die Mühlen, für das Handwerk und die wirtschaftliche Entwicklung Münchens.
DTSTART:20160724T140000
DTEND:20160724T163000
LOCATION:Vor dem Isarkraftwerk III + Wittelsbacherstr. 24
ORGANIZER:MVHS München Mitte   
END:VEVENT
END:VCALENDAR