BEGIN:VCALENDAR
VERSION:2.0
PRODID:-//Stadtgeschichte München//DE
CALSCALE:GREGORIAN
BEGIN:VEVENT
UID:11337@stadtgeschichte-muenchen.de
SUMMARY:Das Westend - einst ein Arbeiterquartier - heute In-Viertel
DESCRIPTION:Auf der Hochebene hinter der Hangkante der Isar entstand zu Beginn der Industriealisierung ein klassisches Arbeiterviertel. Obwohl sich durch die Verlagerung der Messe viel verändert hat, konnte diese Münchner Vorstadt ihren ursprünglichen Charakter lange bewahren.&nbsp;Wir wollen bei dem Rundgang Altes und Neues besichtigen. Das „schicke\" Neubauviertel auf dem ehemaligen Messegelände ebenso wie das Ledigenheim, die Rupertuskirche und manch verborgene Schätze.
DTSTART:20160807T110000
DTEND:20160807T130000
LOCATION:U-Bahnstation Schwanthalerhöhe Aufgang Heimeranstraße/Ganghoferstraße
ORGANIZER:MVHS München Mitte   
END:VEVENT
END:VCALENDAR