BEGIN:VCALENDAR
VERSION:2.0
PRODID:-//Stadtgeschichte München//DE
CALSCALE:GREGORIAN
BEGIN:VEVENT
UID:11341@stadtgeschichte-muenchen.de
SUMMARY:Luxus, Kunst und Spekulanten:
DESCRIPTION:Stararchitektenw ie Klenze, Gärtner und die Seidl-Brüder haben die einstige königlich-bayrische Nobelmeileg eprägt. Berühmte Namen wie Schack, Lenbach und Bernheimer sind mit ihr verbunden. Nationalsozialismus und Krieg, der Wiederaufbau und städtebauliche Interventionen haben tiefe Spuren hinterlassen. Der Neubau der Siemenszentrale der Erweiterungsbau des Lenbachhauses und das NS-Dokumentationszentrum eröffnen der Straße neue Perspektiven.
DTSTART:20160605T140000
DTEND:20160605T160000
LOCATION:Feldherrnhalle· Odeonsplatz
ORGANIZER:MVHS München Mitte   
END:VEVENT
END:VCALENDAR