BEGIN:VCALENDAR
VERSION:2.0
PRODID:-//Stadtgeschichte München//DE
CALSCALE:GREGORIAN
BEGIN:VEVENT
UID:11345@stadtgeschichte-muenchen.de
SUMMARY:Traumstadt Schwabing
DESCRIPTION:Für das Bauerndorf „Swapinga\" begann im 18. Jahrhundert eine feudale Epoche.&nbsp;Landhäuser und Schlösschen entstanden wie in keinem anderen Dorf um München.&nbsp;Später, im 19. Jahrhundert, spürte man den Einfluss der aufblühenden&nbsp;Residenzstadt. Durch die Nähe der Universität und der Kunstakademie wurde&nbsp;Schwabing ein beliebtes Wohnviertel für Studenten, Künstler und Politiker.&nbsp;Jugendstilhäuser, Gedenktafeln und Straßennamen erzählen Geschichten aus längst&nbsp;vergangenen Tagen.
DTSTART:20160814T110000
DTEND:20160814T133000
LOCATION: Leopoldstr./Ecke Martiusstr. (U3/U6) 
ORGANIZER:MVHS München Mitte   
END:VEVENT
END:VCALENDAR