BEGIN:VCALENDAR
VERSION:2.0
PRODID:-//Stadtgeschichte München//DE
CALSCALE:GREGORIAN
BEGIN:VEVENT
UID:11349@stadtgeschichte-muenchen.de
SUMMARY:Münchens Viktualienmarkt - Marktgeschichte und Marktgeschichten
DESCRIPTION:Für Hochaltrige besonders·geeignet Bei einem Rundgang über den Münchner Viktualienmarkt gibt es viel über die Geschichte, über die Entwicklung und die Veränderungen zu erzählen, aber auch viele Geschichten über das ehemalige HI. Geist-Spital, Metzger, Bäcker und Fischhändler Anschließendr eden wir im ASZ bei einer Tasse Kaffee oder Tee und einem Dia-Vortrag über die 1853 entstandene Schrannenhalle, von der wieder ein Teil aufgebaut wurde. gebührenfrei für Bewohner der Münchenstift-Häuser
DTSTART:20160519T140000
DTEND:20160519T153000
LOCATION:Alten- und Service-Zentrum Altstadt (Eingang) · Sebastiansplatz 12
ORGANIZER:MVHS München Mitte   
END:VEVENT
END:VCALENDAR