BEGIN:VCALENDAR
VERSION:2.0
PRODID:-//Stadtgeschichte München//DE
CALSCALE:GREGORIAN
BEGIN:VEVENT
UID:1135@stadtgeschichte-muenchen.de
SUMMARY:Spurensuche entlang der inneren Stadtbäche
DESCRIPTION:&lt;p&gt;Viele B&amp;auml;che zogen sich fr&amp;uuml;her die Altstadt und die Isarvorstadt und trugen wesentlich zum Aufstieg der Stadt bei. Sie versorgten M&amp;uuml;hlen, den Stadtgraben, das erste Feuerwehrhaus und dienten zur Pferdetr&amp;auml;nke genauso wie als &amp;quot;Einsch&amp;uuml;tt&amp;quot; f&amp;uuml;r den Abfall. Am heutigen Viktualienmarkt versorgte er einst das Heilig-Geist-Spital und sp&amp;auml;ter die Fischh&amp;auml;ndler mit Wasser. Viele Orte in der Altstadt erinnern noch an die damalige Bedeutung.&lt;/p&gt;
DTSTART:20111016T150000
DTEND:20111016T170000
LOCATION:Sendlinger Tor Platz (unter dem Torbogen)
ORGANIZER:MVHS München Mitte   
END:VEVENT
END:VCALENDAR