BEGIN:VCALENDAR
VERSION:2.0
PRODID:-//Stadtgeschichte München//DE
CALSCALE:GREGORIAN
BEGIN:VEVENT
UID:11354@stadtgeschichte-muenchen.de
SUMMARY:Potenziale fördern!
DESCRIPTION:In der LernwerkstattH alle 36 in der ehemaligen Bayernkaserne lernen jugendliche Flüchtlinge handwerkliche Berufe kennen. Ausbilder vermitteln Grundkenntnissein verschiedenen Handwerkszweigen, die im Facility Management auf dem Gelande benötigt werden. Die Jugendlichen&nbsp;erhalten so eine Beschäftigungsmöglichkeit und können ihre Fähigkeiten und Neigungen für die spätere Berufswahl entdecken. Gleichzeitig wird Interesse für Handwerksberufe geweckt, in denen Nachwuchs fehlt. Bei dem Besuch werden Werkstätten und Konzept vorgestellt.&nbsp;
DTSTART:20160316T160000
DTEND:20160316T173000
LOCATION:Bayernkaserne, Eingangstor· Heidemannstr 60
ORGANIZER:MVHS München Mitte   
END:VEVENT
END:VCALENDAR