BEGIN:VCALENDAR
VERSION:2.0
PRODID:-//Stadtgeschichte München//DE
CALSCALE:GREGORIAN
BEGIN:VEVENT
UID:1136@stadtgeschichte-muenchen.de
SUMMARY:Rund um die &quot;Münchner Freiheit&quot;
DESCRIPTION:&lt;p&gt;Sehen - h&amp;ouml;ren - lesen aperitiv - das Informationsprogramm der MVHS und der M&amp;uuml;nchner Stadtbibliothek &lt;/p&gt; &lt;p&gt;In das einst l&amp;auml;ndlich gepr&amp;auml;gte Schwabing zogen Ende des 19. Jahrhunderts die K&amp;uuml;nstler. Sie pr&amp;auml;gten den Stadtteil, ohne die &amp;quot;Alten Schwabinger&amp;quot; zu verdr&amp;auml;ngen. An einigen Orten erkennen wir noch das Leben und das Treiben der Boheme dieser Zeit.&lt;br /&gt; &lt;br /&gt; Da&#039;s Schloss Suresnes und die Kirche St. Sylvester erinnern an das Schwabing vor der Eingemeindung, die Gegend um die Occamstra&amp;szlig;e an das Schwabinger Nachtleben der Neuzeit. Der Rundgang endet in der Stadtteilbibliothek mit einer kleinen Lesung und Empfehlungen einschl&amp;auml;giger B&amp;uuml;cher zur Stadtgeschichte.&lt;br /&gt; &lt;br /&gt; D&amp;gt;Treffpunkt: U-Bahnhof, M&amp;uuml;nchner Freiheit (Zwischengescho&amp;szlig;, gegen&amp;uuml;ber dem Eingang zur U-Bahn) &amp;gt; Freitag, 11. Nov. 2011 von 15.00 bis 17.30 Uhr - 6.- &amp;euro; bei Anmeldung oder am Veranstaltungsort, MVHS CM 82 E.&lt;br /&gt; &amp;nbsp;&lt;/p&gt;
DTSTART:20111111T150000
DTEND:20111111T173000
LOCATION:U-Bahnhof, Münchner Freiheit (Zwischengeschoß, gegenüber dem Eingang zur U-Bahn)
ORGANIZER:MVHS München Mitte   
END:VEVENT
END:VCALENDAR