BEGIN:VCALENDAR
VERSION:2.0
PRODID:-//Stadtgeschichte München//DE
CALSCALE:GREGORIAN
BEGIN:VEVENT
UID:11363@stadtgeschichte-muenchen.de
SUMMARY:Mit Politik auf Tuchfühlung: der Bezirkstag von Oberbayern
DESCRIPTION:Der Bezirk Oberbayern ist nicht nur Träger der psychiatrischen und neurologischen Versorgung, sondern engagiert sich unter anderem auch in der Kultur, Heimat- und Umweltpflege. Verwaltet wird der Bezirk Oberbayernd urch den gleichzeitig mit dem Bayerischen Landtag gewählten Bezirkstag. Bezirkstagspräsident Josef Mederer führt Sie durch die Münchner Bezirksverwaltung und macht Sie mit den Aufgaben der dritten kommunalen Ebene vertraut. die auch die Belange der Bürgerinnen und Bürger des Münchner Nordens berühren.
DTSTART:20160601T160000
DTEND:20160601T180000
LOCATION:Bezirk Oberbayern· Prinzregentenstr 14 (Foyer)·
ORGANIZER:MVHS München Nord
END:VEVENT
END:VCALENDAR