BEGIN:VCALENDAR
VERSION:2.0
PRODID:-//Stadtgeschichte München//DE
CALSCALE:GREGORIAN
BEGIN:VEVENT
UID:11369@stadtgeschichte-muenchen.de
SUMMARY:Knorr-Bremse
DESCRIPTION:Der Knorr-Bremse Konzern, der seit mehr als 60 Jahren seinen Sitz im Münchner Norden hat, ist weltweit der führende Hersteller von Bremssystemen für Schienen- und Nutzfahrzeuge. Mit über 19.000 Mitarbeitern an über 85 Standorten in 27 Ländern, davon rund 1.900 in München, treibt das Unternehmen als technologischer Schrittmacher seit über hundert Jahren maßgeblich Entwicklung, Produktion, Vertrieb und Service moderner Bremssysteme voran.
DTSTART:20160920T133000
DTEND:20160920T160000
LOCATION:Knorr-Bremse,  Pforte West, Am Oberwiesenfeld
ORGANIZER:MVHS München Nord
END:VEVENT
END:VCALENDAR