BEGIN:VCALENDAR
VERSION:2.0
PRODID:-//Stadtgeschichte München//DE
CALSCALE:GREGORIAN
BEGIN:VEVENT
UID:11374@stadtgeschichte-muenchen.de
SUMMARY:Abwasserentsorgung in München
DESCRIPTION:&lt;p&gt;Seit über 150 Jahren werden unter den Straßen Kanäle gebaut und unterhalten. In ihnen fließt das Schmutzwasser aus Haushalten und Betrieben zu den Klärwerken. Mit Regenwasser vermischt, wird das Abwasser besonders nach Gewitterregen in großen unterirdischen Rückhaltebecken zwischengespeichert. &amp;nbsp;Sie besichtigen zwei über 100 Jahre alte Hauptkanäle und eine Regenrückhalteanlage. Die Exkursion erfolgt mit der U-Bahn, es müssen ca . 10-15 Minuten Fußweg zurückgelegt werden .&lt;/p&gt; &lt;p&gt;Die Führung endet an der Akademie­straße, Ecke Türkenstraße.&amp;nbsp;&lt;/p&gt; 
DTSTART:20160422T090000
DTEND:20160422T110000
LOCATION:Parkplatz des Nordfriedhofs, Ungererstr. 130 (gegenüber der Echinger Str.)
ORGANIZER:MVHS München Nord
END:VEVENT
END:VCALENDAR