BEGIN:VCALENDAR
VERSION:2.0
PRODID:-//Stadtgeschichte München//DE
CALSCALE:GREGORIAN
BEGIN:VEVENT
UID:11379@stadtgeschichte-muenchen.de
SUMMARY:Das Wetteramt München
DESCRIPTION:&lt;p&gt;Die Wettervorhersagen werden dank modernster Satelliten‐ und Radargeräte immer zuverlässiger. Das Wetteramt liefert die notwendigen Informationen dazu, indem es die meteorologischen Prozesse in der Atmosphäre beobachtet und bewertet. Besonders wichtig ist dabei die rechtzeitige Warnung vor Unwettern. Bei der Führung im Wetteramt München erhalten Sie einen Einblick in die moderne Wetterbeobachtung.&lt;/p&gt; 
DTSTART:20160721T150000
DTEND:20160721T163000
LOCATION:Eingang Wetteramt, Helene-Weber-Allee 21 (Tram 20/21 Goethe-Institut)
ORGANIZER:MVHS München Nord
END:VEVENT
END:VCALENDAR