BEGIN:VCALENDAR
VERSION:2.0
PRODID:-//Stadtgeschichte München//DE
CALSCALE:GREGORIAN
BEGIN:VEVENT
UID:11382@stadtgeschichte-muenchen.de
SUMMARY:Vereine stellen sich vor: Domagkpark eG und Domagkpark e. V.
DESCRIPTION:Ende 2015 sind die ersten Bewohnerinnen und Bewohner in das neue Viertel Domagkpark eingezogen. Die Bewohner zusammen­zubringen, Kontakte zwischen Jung und Alt zu ermöglichen und ein lebendiges Stadtviertel zu schaffen, ist das Ziel der Genossenschaft Domagkpark eG und des Vereins Domagkpark e. V. Sie stellen Ge­meinschaftsräume zur Verfügung, unterstützen beim Aufbau von gemeinsamen Aktivitäten, bieten ein Forum, in dem Bewohner mit­reden können, vermitteln aber auch Dienstleistungen. Erfahren Sie, wie ein neues Quartier vernetzt wird .&nbsp;
DTSTART:20160920T190000
DTEND:20160920T200000
LOCATION:Quartiersladen · Fritz-Winter-Str. 3
ORGANIZER:MVHS München Nord
END:VEVENT
END:VCALENDAR